BEGIN:VCALENDAR
VERSION:2.0
PRODID:icalendar-ruby
CALSCALE:GREGORIAN
METHOD:PUBLISH
BEGIN:VEVENT
DTSTAMP:20260421T084728Z
UID:7-749221@trinitychurchindiana.com
DTSTART:20260802T144500Z
DTEND:20260802T153000Z
CLASS:PUBLIC
CREATED:20260420T203132
DESCRIPTION:Join us for both children and adult Sunday school right after o
 ur Sunday church service.
LAST-MODIFIED:20260420T203132
LOCATION:
SUMMARY:Sunday School
URL;VALUE=URI:https://www.trinitychurchindiana.com/events/sunday-school/202
 6-08-02
ATTACH;FILENAME=DSC_8260.JPG;FMTTYPE=image/jpeg:https://dq5pwpg1q8ru0.cloud
 front.net/2023/03/30/15/32/39/ca20a0cd-5230-4af4-aea4-649772722707/DSC_826
 0.JPG
END:VEVENT
END:VCALENDAR
